BEGIN:VCALENDAR
VERSION:2.0
PRODID:-//Innovia Foundation - ECPv6.15.20//NONSGML v1.0//EN
CALSCALE:GREGORIAN
METHOD:PUBLISH
X-ORIGINAL-URL:https://innovia.org
X-WR-CALDESC:Events for Innovia Foundation
REFRESH-INTERVAL;VALUE=DURATION:PT1H
X-Robots-Tag:noindex
X-PUBLISHED-TTL:PT1H
BEGIN:VTIMEZONE
TZID:America/Vancouver
BEGIN:DAYLIGHT
TZOFFSETFROM:-0800
TZOFFSETTO:-0700
TZNAME:PDT
DTSTART:20230312T100000
END:DAYLIGHT
BEGIN:STANDARD
TZOFFSETFROM:-0700
TZOFFSETTO:-0800
TZNAME:PST
DTSTART:20231105T090000
END:STANDARD
BEGIN:DAYLIGHT
TZOFFSETFROM:-0800
TZOFFSETTO:-0700
TZNAME:PDT
DTSTART:20240310T100000
END:DAYLIGHT
BEGIN:STANDARD
TZOFFSETFROM:-0700
TZOFFSETTO:-0800
TZNAME:PST
DTSTART:20241103T090000
END:STANDARD
BEGIN:DAYLIGHT
TZOFFSETFROM:-0800
TZOFFSETTO:-0700
TZNAME:PDT
DTSTART:20250309T100000
END:DAYLIGHT
BEGIN:STANDARD
TZOFFSETFROM:-0700
TZOFFSETTO:-0800
TZNAME:PST
DTSTART:20251102T090000
END:STANDARD
END:VTIMEZONE
BEGIN:VEVENT
DTSTART;TZID=America/Vancouver:20240609T130000
DTEND;TZID=America/Vancouver:20240609T160000
DTSTAMP:20260420T055332
CREATED:20240517T230724Z
LAST-MODIFIED:20240517T230724Z
UID:10000914-1717938000-1717948800@innovia.org
SUMMARY:Spokane Indians Baseball June 9th Game
DESCRIPTION:In celebration of Innovia Foundation’s 50th Anniversary and the vibrant community spirit of Expo ‘74\, the Foundation is partnering with Spokane Indians Baseball on a special offer for the June 9th game when the team takes the field in their Expo ‘74 commemorative uniforms for the final time. \nInnovia 50th Anniversary tickets are priced at only $6 each\, plus fees\, and include admission to the game\, a free ice cream sandwich and entry into a drawing for a Spokane Indians jersey. As always\, fans can expect free parking\, free gameday programs\, and family friendly amenities throughout the ballpark\, including access to the Kids Zone and wiffle ball at Molina Field located on the 3rd base side of the outer concourse. \nGates to Avista Stadium open at 12noon with the first pitch at 1 p.m. Ticket holders are invited to stop by the Innovia booth in the Hall of Fame Plaza to pick up a voucher for a free ice cream sandwich. Click here to purchase tickets or check ticket availability at the gate on game day. Limited tickets at the special $6 package rate are available for the June 9th game.
URL:https://innovia.org/communityevent/spokane-indians-baseball-june-9th-game/
LOCATION:Avista Stadium\, 602 N Havana St\, Spokane Valley\, WA\, 99212
ATTACH;FMTTYPE=image/jpeg:https://innovia.org/wp-content/uploads/2024/05/DSC_0121-scaled.jpg
END:VEVENT
END:VCALENDAR